BEGIN:VCALENDAR
VERSION:2.0
PRODID:-//Freedom House International Ministries - ECPv6.8.3//NONSGML v1.0//EN
CALSCALE:GREGORIAN
METHOD:PUBLISH
X-ORIGINAL-URL:https://fhim.org.uk
X-WR-CALDESC:Events for Freedom House International Ministries
REFRESH-INTERVAL;VALUE=DURATION:PT1H
X-Robots-Tag:noindex
X-PUBLISHED-TTL:PT1H
BEGIN:VTIMEZONE
TZID:Europe/London
BEGIN:DAYLIGHT
TZOFFSETFROM:+0000
TZOFFSETTO:+0100
TZNAME:BST
DTSTART:20200329T010000
END:DAYLIGHT
BEGIN:STANDARD
TZOFFSETFROM:+0100
TZOFFSETTO:+0000
TZNAME:GMT
DTSTART:20201025T010000
END:STANDARD
END:VTIMEZONE
BEGIN:VEVENT
DTSTART;TZID=Europe/London:20201128T130000
DTEND;TZID=Europe/London:20201128T160000
DTSTAMP:20260422T152744
CREATED:20201101T232832Z
LAST-MODIFIED:20201101T233747Z
UID:71-1606568400-1606579200@fhim.org.uk
SUMMARY:Pathway To Life - November Celebration
DESCRIPTION:For our last pathway to life event of the year we will be having a celebration!
URL:https://fhim.org.uk/event/pathway-to-life-november-celebration/
CATEGORIES:Pathway To Life
END:VEVENT
END:VCALENDAR